BEGIN:VCALENDAR
VERSION:2.0
PRODID:volkhard-wille.de
METHOD:PUBLISH
BEGIN:VTIMEZONE
TZID:Europe/Berlin
X-LIC-LOCATION:Europe/Berlin
BEGIN:DAYLIGHT
TZOFFSETFROM:+0100
TZOFFSETTO:+0200
TZNAME:CEST
DTSTART:19700329T020000
RRULE:FREQ=YEARLY;INTERVAL=1;BYDAY=-1SU;BYMONTH=3
END:DAYLIGHT
BEGIN:STANDARD
TZOFFSETFROM:+0200
TZOFFSETTO:+0100
TZNAME:CET
DTSTART:19701025T030000
RRULE:FREQ=YEARLY;INTERVAL=1;BYDAY=-1SU;BYMONTH=10
END:STANDARD
END:VTIMEZONE
BEGIN:VEVENT
UID:b70d98bd1e1ea28f3c8e02a88d98d9bc@volkhard-wille.de
URL;VALUE=URI:https://volkhard-wille.de/termine/anhoerung-fracking-gas-aw
 ikeaulnv/
LOCATION:
SUMMARY:Anhörung Fracking / Gas (AWIKE+AULNV)
DESCRIPTION;ALTREP="data:text/html,%0A%3Cp%3ESitzung%20f%C3%BCr%20die%20G
 r%C3%BCne%20Landtagsfraktion.%3C%2Fp%3E%0A":Sitzung für die Grüne Landt
 agsfraktion.
CLASS:PUBLIC
DTSTART;TZID=Europe/Berlin:20230201T100000
DTEND;TZID=Europe/Berlin:20230201T110000
DTSTAMP:20260421T095117
END:VEVENT
END:VCALENDAR