BEGIN:VCALENDAR
VERSION:2.0
PRODID:volkhard-wille.de
METHOD:PUBLISH
BEGIN:VTIMEZONE
TZID:Europe/Berlin
X-LIC-LOCATION:Europe/Berlin
BEGIN:DAYLIGHT
TZOFFSETFROM:+0100
TZOFFSETTO:+0200
TZNAME:CEST
DTSTART:19700329T020000
RRULE:FREQ=YEARLY;INTERVAL=1;BYDAY=-1SU;BYMONTH=3
END:DAYLIGHT
BEGIN:STANDARD
TZOFFSETFROM:+0200
TZOFFSETTO:+0100
TZNAME:CET
DTSTART:19701025T030000
RRULE:FREQ=YEARLY;INTERVAL=1;BYDAY=-1SU;BYMONTH=10
END:STANDARD
END:VTIMEZONE
BEGIN:VEVENT
UID:91f124094bab8cf0a509ef214a4b04d6@volkhard-wille.de
URL;VALUE=URI:https://volkhard-wille.de/termine/besuch-der-feier-anlaessl
 ich-60-jahre-nabu-nrw/
LOCATION:
SUMMARY:Besuch der Feier anlässlich 60 Jahre NABU NRW
DESCRIPTION;ALTREP="data:text/html,":
CLASS:PUBLIC
DTSTART;TZID=Europe/Berlin:20260425T180000
DTEND;TZID=Europe/Berlin:20260425T210000
DTSTAMP:20260421T124508
END:VEVENT
END:VCALENDAR