BEGIN:VCALENDAR
VERSION:2.0
PRODID:volkhard-wille.de
METHOD:PUBLISH
BEGIN:VTIMEZONE
TZID:Europe/Berlin
X-LIC-LOCATION:Europe/Berlin
BEGIN:DAYLIGHT
TZOFFSETFROM:+0100
TZOFFSETTO:+0200
TZNAME:CEST
DTSTART:19700329T020000
RRULE:FREQ=YEARLY;INTERVAL=1;BYDAY=-1SU;BYMONTH=3
END:DAYLIGHT
BEGIN:STANDARD
TZOFFSETFROM:+0200
TZOFFSETTO:+0100
TZNAME:CET
DTSTART:19701025T030000
RRULE:FREQ=YEARLY;INTERVAL=1;BYDAY=-1SU;BYMONTH=10
END:STANDARD
END:VTIMEZONE
BEGIN:VEVENT
UID:4ff00afc92fcf55946243f6bdc754de1@volkhard-wille.de
URL;VALUE=URI:https://volkhard-wille.de/termine/diskussion-kieswende-kies
 ausstieg-am-niederrhein/
LOCATION:
SUMMARY:Diskussion: Kieswende/Kiesausstieg am Niederrhein
DESCRIPTION;ALTREP="data:text/html,%0A%3Cp%3EDiskussion%20des%20Aktionsb%
 C3%BCndnis%20Niederrheinappell%20mit%20den%20Naturschutzverb%C3%A4nden%20
 und%20Wirtschaftsministerin%20Mona%20Neubaur.%20%3C%2Fp%3E%0A%0A%0A%0A%3C
 p%3EThema%3A%20Kieswende%2FKiesausstieg%3A%20Wie%20geht%20es%20jetzt%20we
 iter%20am%20Niederrhein%20und%20auf%20Landesebene%3F%3C%2Fp%3E%0A":Diskus
 sion des Aktionsbündnis Niederrheinappell mit den Naturschutzverbänden 
 und Wirtschaftsministerin Mona Neubaur.\n\nThema: Kieswende/Kiesausstieg:
  Wie geht es jetzt weiter am Niederrhein und auf Landesebene?
CLASS:PUBLIC
DTSTART;TZID=Europe/Berlin:20230321T190000
DTEND;TZID=Europe/Berlin:20230321T200000
DTSTAMP:20260421T095637
END:VEVENT
END:VCALENDAR