BEGIN:VCALENDAR
VERSION:2.0
PRODID:volkhard-wille.de
METHOD:PUBLISH
BEGIN:VTIMEZONE
TZID:Europe/Berlin
X-LIC-LOCATION:Europe/Berlin
BEGIN:DAYLIGHT
TZOFFSETFROM:+0100
TZOFFSETTO:+0200
TZNAME:CEST
DTSTART:19700329T020000
RRULE:FREQ=YEARLY;INTERVAL=1;BYDAY=-1SU;BYMONTH=3
END:DAYLIGHT
BEGIN:STANDARD
TZOFFSETFROM:+0200
TZOFFSETTO:+0100
TZNAME:CET
DTSTART:19701025T030000
RRULE:FREQ=YEARLY;INTERVAL=1;BYDAY=-1SU;BYMONTH=10
END:STANDARD
END:VTIMEZONE
BEGIN:VEVENT
UID:451dea94e0344b3f1146081fc167db24@volkhard-wille.de
URL;VALUE=URI:https://volkhard-wille.de/termine/haushalts-und-finanzaussc
 huss-hfa-6/
LOCATION:
SUMMARY:Haushalts- und Finanzausschuss (HFA)
DESCRIPTION;ALTREP="data:text/html,%0A%3Cp%3ESitzung%20f%C3%BCr%20die%20G
 r%C3%BCne%20Landtagsfraktion%3Ca%20rel%3D%22noreferrer%20noopener%22%20hr
 ef%3D%22https%3A%2F%2Ftwitter.com%2Fintent%2Ftweet%3Ftext%3DAusschuss%2Bf
 %25C3%25BCr%2BUmwelt%252C%2BNatur-%2Bund%2BVerbraucherschutz%252C%2BLandw
 irtschaft%252C%2BForsten%2Bund%2Bl%25C3%25A4ndliche%2BR%25C3%25A4ume%2B%2
 528AULNV%2529%26amp%3Burl%3Dhttps%3A%2F%2Fvolkhard-wille.de%2Ftermine%2Fa
 usschuss-fuer-umwelt-natur-und-verbraucherschutz-landwirtschaft-forsten-u
 nd-laendliche-raeume-aulnv-2%2F%26amp%3Bvia%3D%22%20target%3D%22_blank%22
 %3E%3C%2Fa%3E%3Ca%20rel%3D%22noreferrer%20noopener%22%20href%3D%22https%3
 A%2F%2Ftwitter.com%2Fintent%2Ftweet%3Ftext%3DAusschuss%2Bf%25C3%25BCr%2BU
 mwelt%252C%2BNatur-%2Bund%2BVerbraucherschutz%252C%2BLandwirtschaft%252C%
 2BForsten%2Bund%2Bl%25C3%25A4ndliche%2BR%25C3%25A4ume%2B%2528AULNV%2529%2
 6amp%3Burl%3Dhttps%3A%2F%2Fvolkhard-wille.de%2Ftermine%2Fausschuss-fuer-u
 mwelt-natur-und-verbraucherschutz-landwirtschaft-forsten-und-laendliche-r
 aeume-aulnv-4%2F%26amp%3Bvia%3D%22%20target%3D%22_blank%22%3E%3C%2Fa%3E%3
 Ca%20rel%3D%22noreferrer%20noopener%22%20href%3D%22https%3A%2F%2Ftwitter.
 com%2Fintent%2Ftweet%3Ftext%3DHaushalts-%2Bund%2BFinanzausschuss%2B%2528H
 FA%2529%26amp%3Burl%3Dhttps%3A%2F%2Fvolkhard-wille.de%2Ftermine%2Fhaushal
 ts-und-finanzausschuss-hfa-3%2F%26amp%3Bvia%3D%22%20target%3D%22_blank%22
 %3E%3C%2Fa%3E%3C%2Fp%3E%0A":Sitzung für die Grüne Landtagsfraktion
CLASS:PUBLIC
DTSTART;TZID=Europe/Berlin:20230209T100000
DTEND;TZID=Europe/Berlin:20230209T110000
DTSTAMP:20260425T230508
END:VEVENT
END:VCALENDAR