BEGIN:VCALENDAR
VERSION:2.0
PRODID:volkhard-wille.de
METHOD:PUBLISH
BEGIN:VTIMEZONE
TZID:Europe/Berlin
X-LIC-LOCATION:Europe/Berlin
BEGIN:DAYLIGHT
TZOFFSETFROM:+0100
TZOFFSETTO:+0200
TZNAME:CEST
DTSTART:19700329T020000
RRULE:FREQ=YEARLY;INTERVAL=1;BYDAY=-1SU;BYMONTH=3
END:DAYLIGHT
BEGIN:STANDARD
TZOFFSETFROM:+0200
TZOFFSETTO:+0100
TZNAME:CET
DTSTART:19701025T030000
RRULE:FREQ=YEARLY;INTERVAL=1;BYDAY=-1SU;BYMONTH=10
END:STANDARD
END:VTIMEZONE
BEGIN:VEVENT
UID:59c7a4a404e8220e265078e9df89786a@volkhard-wille.de
URL;VALUE=URI:https://volkhard-wille.de/termine/teilnahme-am-parlamentari
 schen-abend-der-nrw-stiftung/
LOCATION:
SUMMARY:Teilnahme am Parlamentarischen Abend der NRW-Stiftung
DESCRIPTION;ALTREP="data:text/html,":
CLASS:PUBLIC
DTSTART;TZID=Europe/Berlin:20220901T193000
DTEND;TZID=Europe/Berlin:20220901T213000
DTSTAMP:20260423T182538
END:VEVENT
END:VCALENDAR