BEGIN:VCALENDAR
VERSION:2.0
PRODID:volkhard-wille.de
METHOD:PUBLISH
BEGIN:VTIMEZONE
TZID:Europe/Berlin
X-LIC-LOCATION:Europe/Berlin
BEGIN:DAYLIGHT
TZOFFSETFROM:+0100
TZOFFSETTO:+0200
TZNAME:CEST
DTSTART:19700329T020000
RRULE:FREQ=YEARLY;INTERVAL=1;BYDAY=-1SU;BYMONTH=3
END:DAYLIGHT
BEGIN:STANDARD
TZOFFSETFROM:+0200
TZOFFSETTO:+0100
TZNAME:CET
DTSTART:19701025T030000
RRULE:FREQ=YEARLY;INTERVAL=1;BYDAY=-1SU;BYMONTH=10
END:STANDARD
END:VTIMEZONE
BEGIN:VEVENT
UID:2aa2c37adbb3c11c0cb2780d6753bc98@volkhard-wille.de
URL;VALUE=URI:https://volkhard-wille.de/termine/vorstandssitzung-gruene-k
 leve-14/
LOCATION:
SUMMARY:Vorstandssitzung Grüne Kleve
DESCRIPTION;ALTREP="data:text/html,":
CLASS:PUBLIC
DTSTART;TZID=Europe/Berlin:20240412T190000
DTEND;TZID=Europe/Berlin:20240412T200000
DTSTAMP:20260421T100734
END:VEVENT
END:VCALENDAR